BEGIN:VCALENDAR
VERSION:2.0
PRODID:-//Lifepoint Church - ECPv5.8.1//NONSGML v1.0//EN
CALSCALE:GREGORIAN
METHOD:PUBLISH
X-WR-CALNAME:Lifepoint Church
X-ORIGINAL-URL:https://lifepoint.co.nz
X-WR-CALDESC:Events for Lifepoint Church
BEGIN:VTIMEZONE
TZID:Pacific/Auckland
BEGIN:STANDARD
TZOFFSETFROM:+1300
TZOFFSETTO:+1200
TZNAME:NZST
DTSTART:20260404T140000
END:STANDARD
BEGIN:DAYLIGHT
TZOFFSETFROM:+1200
TZOFFSETTO:+1300
TZNAME:NZDT
DTSTART:20260926T140000
END:DAYLIGHT
END:VTIMEZONE
BEGIN:VEVENT
DTSTART;TZID=Pacific/Auckland:20260312T190000
DTEND;TZID=Pacific/Auckland:20260312T203000
DTSTAMP:20260417T233059
CREATED:20260226T001238Z
LAST-MODIFIED:20260226T001303Z
UID:15792-1773342000-1773347400@lifepoint.co.nz
SUMMARY:Prayer Training Night
DESCRIPTION:If you are interested in learning more about how to pray for others then come and join us on Thur 12th March for a night of Prayer Training. Ps Simon Currie will be teaching the John Wimber 5 step Prayer Model.
URL:https://lifepoint.co.nz/event/working-bee/
LOCATION:Lifepoint\, 300 One Tree Point Rd\, One Tree Point
ATTACH;FMTTYPE=image/jpeg:https://lifepoint.co.nz/wp-content/uploads/2026/02/Prayer-Training-A5.jpg
END:VEVENT
END:VCALENDAR