BEGIN:VCALENDAR
VERSION:2.0
PRODID:-//Lifepoint Church - ECPv5.8.1//NONSGML v1.0//EN
CALSCALE:GREGORIAN
METHOD:PUBLISH
X-WR-CALNAME:Lifepoint Church
X-ORIGINAL-URL:https://lifepoint.co.nz
X-WR-CALDESC:Events for Lifepoint Church
BEGIN:VTIMEZONE
TZID:Pacific/Auckland
BEGIN:STANDARD
TZOFFSETFROM:+1300
TZOFFSETTO:+1200
TZNAME:NZST
DTSTART:20230401T140000
END:STANDARD
BEGIN:DAYLIGHT
TZOFFSETFROM:+1200
TZOFFSETTO:+1300
TZNAME:NZDT
DTSTART:20230923T140000
END:DAYLIGHT
END:VTIMEZONE
BEGIN:VEVENT
DTSTART;TZID=Pacific/Auckland:20231213T123000
DTEND;TZID=Pacific/Auckland:20231213T143000
DTSTAMP:20260422T131354
CREATED:20231114T011711Z
LAST-MODIFIED:20231114T011711Z
UID:15382-1702470600-1702477800@lifepoint.co.nz
SUMMARY:Ukulele
DESCRIPTION:Come along to our ukulele group at Lifepoint church! We meet every week at 12:30pm on Wednesday afternoon’s and we welcome all ages and abilities. Whether you are a beginner or a pro\, you will find a friendly and supportive community of ukulele enthusiasts who love to sing and play together. \nSo don’t be shy\, come and join us! \nContact Lisa 021 100 3998
URL:https://lifepoint.co.nz/event/ukulele-5/
LOCATION:Lifepoint\, 300 One Tree Point Rd\, One Tree Point
END:VEVENT
END:VCALENDAR