BEGIN:VCALENDAR
VERSION:2.0
PRODID:-//Lifepoint Church - ECPv5.8.1//NONSGML v1.0//EN
CALSCALE:GREGORIAN
METHOD:PUBLISH
X-WR-CALNAME:Lifepoint Church
X-ORIGINAL-URL:https://lifepoint.co.nz
X-WR-CALDESC:Events for Lifepoint Church
BEGIN:VTIMEZONE
TZID:Pacific/Auckland
BEGIN:STANDARD
TZOFFSETFROM:+1300
TZOFFSETTO:+1200
TZNAME:NZST
DTSTART:20240406T140000
END:STANDARD
BEGIN:DAYLIGHT
TZOFFSETFROM:+1200
TZOFFSETTO:+1300
TZNAME:NZDT
DTSTART:20240928T140000
END:DAYLIGHT
END:VTIMEZONE
BEGIN:VEVENT
DTSTART;TZID=Pacific/Auckland:20241222T170000
DTEND;TZID=Pacific/Auckland:20241222T200000
DTSTAMP:20260422T124659
CREATED:20241128T012850Z
LAST-MODIFIED:20241128T012925Z
UID:15567-1734886800-1734897600@lifepoint.co.nz
SUMMARY:Carols @ Lifepoint
DESCRIPTION:Carols at Lifepoint.\nCome and celebrate Christmas with us at Lifepoint at our free community event! 🎄\nFree dinner at 5pm\nCarols at 6pm\nSunday 22nd Dec at Lifepoint Church\, 300 One Tree Point Road.\nEveryone is invited\, it’s a great chance to spread some Christmas cheer with your mates and neighbours. We can’t wait to see you there!
URL:https://lifepoint.co.nz/event/carols-lifepoint/
LOCATION:Lifepoint\, 300 One Tree Point Rd\, One Tree Point
END:VEVENT
END:VCALENDAR